BEGIN:VCALENDAR
PRODID:-//github.com/rianjs/ical.net//NONSGML ical.net 4.0//EN
VERSION:2.0
BEGIN:VTIMEZONE
TZID:Mountain Standard Time
X-LIC-LOCATION:America/Denver
BEGIN:STANDARD
DTSTART:20241103T020000
RRULE:FREQ=YEARLY;BYDAY=1SU;BYMONTH=11
TZNAME:MST
TZOFFSETFROM:-0600
TZOFFSETTO:-0700
END:STANDARD
BEGIN:DAYLIGHT
DTSTART:20250309T020000
RRULE:FREQ=YEARLY;BYDAY=2SU;BYMONTH=3
TZNAME:MDT
TZOFFSETFROM:-0700
TZOFFSETTO:-0600
END:DAYLIGHT
END:VTIMEZONE
BEGIN:VEVENT
DTEND;TZID=Mountain Standard Time:20260616T200000
DTSTAMP:20260421T111951Z
DTSTART;TZID=Mountain Standard Time:20260616T173000
LOCATION:Hebron Brick Supply 1500 Lando Lane Rapid City\, SD 57701 United 
 States
ORGANIZER;CN=Black Hills Home Builders Association;SENT-BY="mailto:members
 hip@blackhillshomebuilders.com":
SEQUENCE:0
SUMMARY:BHHBA: Food\, Drinks\, & Fun at Hebron Member Mixer
UID:85bed5ca-fcd6-4bd6-a5c9-b0f09f4a9749
END:VEVENT
END:VCALENDAR
